BEGIN:VCALENDAR
VERSION:2.0
PRODID:-//Drupal: Date iCal//NONSGML kigkonsult.se iCalcreator 2.16.12//
METHOD:PUBLISH
X-WR-CALNAME;VALUE=TEXT:Ical
BEGIN:VTIMEZONE
TZID:America/Sao_Paulo
BEGIN:STANDARD
DTSTART:20260222T000000
TZOFFSETFROM:-0200
TZOFFSETTO:-0300
RDATE:20270221T000000
TZNAME:BRT
END:STANDARD
BEGIN:DAYLIGHT
DTSTART:20261018T000000
TZOFFSETFROM:-0300
TZOFFSETTO:-0200
TZNAME:BRST
END:DAYLIGHT
END:VTIMEZONE
BEGIN:VEVENT
UID:calendar.40257.field_date.0@posnutricao.ufop.br
DTSTAMP:20260420T014221Z
DESCRIPTION:\n	\n		Defesa de Doutorado\n	\n\n\n\n	\n		\n			\n				\n					\n						\n							\n								\n									\n										\n											\n												\n													\n														\n															\n
 																Título:&nbsp\;'PANC na gastronomia mineira: um estudo na capital e em cida
 des históricas'.\n															\n\n															\n																Discente:&nbsp\;Letícia Terrone Pierre\n															\n\n															\n																Banc
 a Examinadora:\n															\n\n															\n																Dra. Melissa Luciana de Araújo (Faculdades Kennedy)
 \n															\n\n															\n																Dra. Rita de Cássia Ribeiro (UFMG)\n															\n\n															\n																Dr. Nuno Rodrigo Madeira
  (Embrapa)\n															\n\n															\n																Dra. Anelise Andrade de Souza (UFOP)\n															\n\n															\n																Dra. Natália
  Caldeira de Carvalho (UFOP) - Coorientadora\n															\n\n															\n																Dra. Camila Carvalho M
 enezes Salierno (UFOP) - Orientadora\n															\n\n															\n																Link:&nbsp\;https://meet.googl
 e.com/ddf-stzb-ref.\n															\n														\n													\n												\n											\n										\n									\n								\n							\n						\n					\n				\n			\n		\n	\n\n
DTSTART;TZID=America/Sao_Paulo:20260227T083000
DTEND;TZID=America/Sao_Paulo:20260227T110500
LAST-MODIFIED:20260212T173123Z
SUMMARY:Banca de Defesa de Doutorado: Letícia Terrone Pierre
URL;TYPE=URI:https://posnutricao.ufop.br/event/banca-de-defesa-de-doutorado
 -let%C3%ADcia-terrone-pierre
END:VEVENT
END:VCALENDAR
